Workbook

Sheet صورت وضعیت
A1: صندوق سرمایه گذاری در اوراق بهادار بادرآمد ثابت ثمر گندم | O1: شروع | P1: 1405/07/01
A2: ‫گزارش صورت وضعیت پورتفوی | O2: پایان | P2: 1405/07/30
A3: ‫برای دوره ماهانه منتهی به 30 مهر ماه 1405 | O3: طی مهر ماه
O4: از ابتدای مهرماه تا پایان مهر ماه
A13: ارکان صندوق | D13: سمت | G13: نماینده مدیر | J13: امضا
A15: شرکت سبدگردان گندم | D15: مدیر صندوق | G15: ساناز صمدی

Sheet سهام
A1: صندوق سرمایه گذاری در اوراق بهادار بادرآمد ثابت ثمر گندم
A2: صورت وضعیت پرتفوی
A3: برای ماه منتهی به 1405/07/30
A4: -1 | B4: سرمایه گذاری ها
A5: -1-1 | C5: سرمایه گذاری در سهام و حق تقدم سهام
F6: 1405/06/31 | L6: تغییرات طی دوره | T6: 1405/07/30
L7: خرید طی دوره | P7: فروش طی دوره
A8: نام شرکت | E8: تعداد | H8: بهای تمام شده | J8: خالص ارزش فروش | L8: تعداد | N8: بهای تمام شده | P8: تعداد | R8: مبلغ فروش | T8: تعداد | V8: قیمت بازار هر سهم | X8: بهای تمام شده | Z8: خالص ارزش فروش | AB8: درصد به کل دارایی ها
A9: ایران‌ ترانسفو | E9: 37500000 | H9: 100560859781 | J9: 132095943750 | L9: 0 | N9: 0 | P9: 0 | R9: 0 | T9: 37500000 | V9: 4350 | X9: 100560859781 | Z9: 161864043750 | AB9: =Z9/$Z$34 -> 0.0017064621
A10: پاریز شرق | E10: 225000 | H10: 6305377454 | J10: 8.2494847e+09 | L10: 0 | N10: 0 | P10: -225000 | R10: 7774895441 | T10: 0 | V10: 0 | X10: 0 | Z10: 0 | AB10: =Z10/$Z$34 -> 0
A11: زرین ذرت شاهرود | E11: 1450000 | H11: 8380188787 | J11: 13855562145 | L11: 0 | N11: 0 | P11: 0 | R11: 0 | T11: 1450000 | V11: 9200 | X11: 8380188787 | Z11: 13236881800 | AB11: =Z11/$Z$34 -> 0.00013955068
A12: گروه پتروشیمی تابان فردا | E12: 3696 | H12: 47434827 | J12: 68434242 | L12: 0 | N12: 0 | P12: -3696 | R12: 85744517 | T12: 0 | V12: 0 | X12: 0 | Z12: 0 | AB12: =Z12/$Z$34 -> 0
A13: کارخانجات رینگ اسپرت نورنی ریز | E13: 1325000 | H13: 21003637176 | J13: 23008260625 | L13: 0 | N13: 0 | P13: 0 | R13: 0 | T13: 1325000 | V13: 17260 | X13: 21003637176 | Z13: 22692718765 | AB13: =Z13/$Z$34 -> 0.00023923945
A14: سرمایه گذاری مس سرچشمه | E14: 0 | H14: 0 | J14: 0 | L14: 23023774 | N14: 210206339877 | P14: 0 | R14: 0 | T14: 23023774 | V14: 8650 | X14: 210206339877 | Z14: 1.9761617e+11 | AB14: =Z14/$Z$34 -> 0.0020833812
A15: تولیدی برنا باطری | E15: 0 | H15: 0 | J15: 0 | L15: 965825 | N15: 10138610265 | P15: 0 | R15: 0 | T15: 965825 | V15: 10830 | X15: 10138610265 | Z15: 1.037903e+10 | AB15: =Z15/$Z$34 -> 0.00010942159
A16: جام‌دارو | E16: 0 | H16: 0 | J16: 0 | L16: 540622 | N16: 10774526861 | P16: 0 | R16: 0 | T16: 540622 | V16: 23460 | X16: 10774526861 | Z16: 1.2584953e+10 | AB16: =Z16/$Z$34 -> 0.00013267767
A17: مهندسی فکورصنعت تهران | E17: 0 | H17: 0 | J17: 0 | L17: 8750000 | N17: 50357794900 | P17: 0 | R17: 0 | T17: 8750000 | V17: 6890 | X17: 50357794900 | Z17: 59821477625 | AB17: =Z17/$Z$34 -> 0.00063067179
A18: کیمیا پلی استر قم | E18: 0 | H18: 0 | J18: 0 | L18: 5785000 | N18: 34767733473 | P18: 0 | R18: 0 | T18: 5785000 | V18: 9120 | X18: 34767733473 | Z18: 52351371384 | AB18: =Z18/$Z$34 -> 0.00055191771
A19: گروه صنعتی و معدنی امیر | E19: 0 | H19: 0 | J19: 0 | L19: 5662381 | N19: 70443976309 | P19: 0 | R19: 0 | T19: 5662381 | V19: 14380 | X19: 70443976309 | Z19: 8.0795623e+10 | AB19: =Z19/$Z$34 -> 0.00085179307
A20: شرکت بهمن لیزینگ | E20: 0 | H20: 0 | J20: 0 | L20: 27703767 | N20: 95988427874 | P20: 0 | R20: 0 | T20: 27703767 | V20: 3840 | X20: 95988427874 | Z20: 1.0556013e+11 | AB20: =Z20/$Z$34 -> 0.0011128745
... A27: پتروشیمی خراسان | E27: 0 | H27: 0 | J27: 0 | L27: 118331 | N27: 6616975932 | P27: 0 | R27: 0 | T27: 118331 | V27: 56460 | X27: 6616975932 | Z27: 6.6293244e+09 | AB27: =Z27/$Z$34 -> 6.989008e-05
A28: جمع | F28: 40503696 | H28: 136297498025 | J28: 1.7727769e+11 | L28: 122754323 | N28: 869977090377 | P28: -26387595 | R28: 234374829733 | T28: 136870424 | X28: 785819282947 | Z28: =SUM(Z9:Z27) -> 9.2791855e+11 | AB28: =SUM(AB9:AB27) -> 0.0097826412
X30: =X28+'واحدهای صندوق'!W14 -> 1413375454629 | Z30: =Z28+'واحدهای صندوق'!Y14 -> 1.7875496e+12 | AB30: =Z30/$Z$34 -> 0.018845357
Z34: 94853581330397

Sheet واحدهای صندوق
A1: صندوق سرمایه گذاری در اوراق بهادار بادرآمد ثابت ثمر گندم
A2: صورت وضعیت پرتفوی
A3: برای ماه منتهی به 1405/07/30
A5: -2-1 | B5: سرمایه‌گذاری در واحدهای صندوق های سرمایه گذاری
E6: 1405/06/31 | K6: تغییرات طی دوره | S6: 1405/07/30
K7: خرید/صدور طی دوره | O7: فروش/ابطال طی دوره
A8: صندوق | D8: تعداد واحد | G8: بهای تمام شده | I8: خالص ارزش فروش | K8: تعداد | M8: بهای تمام شده | O8: تعداد | Q8: مبلغ فروش | S8: تعداد | U8: قیمت ابطال / بازار هر واحد | W8: بهای تمام شده | Y8: خالص ارزش فروش | AA8: درصد به کل دارایی ها
A9: صندوق س راه نو ره سود-سهام | D9: 4000000 | G9: 40089800000 | I9: 39908000000 | K9: 6265940 | M9: 65585165237 | O9: -4000000 | Q9: 41898077375 | S9: 6265940 | U9: 10320 | W9: 65585165237 | Y9: 6.4515772e+10 | AA9: =Y9/$Y$17 -> 0.00068016169
A10: صندوق س. بخشی صنایع گندم1-ب | D10: 10000000 | G10: 113534313556 | I10: 180793217000 | K10: 0 | M10: 0 | O10: 0 | Q10: 0 | S10: 10000000 | U10: 20907 | W10: 113534313556 | Y10: 208589139000 | AA10: =Y10/$Y$17 -> 0.0021990645
A11: صندوق س.جوانه کوچک گندم-سهام | D11: 6000000 | G11: 97668274069 | I11: 186529992000 | K11: 0 | M11: 0 | O11: 0 | Q11: 0 | S11: 6000000 | U11: 38100 | W11: 97668274069 | Y11: 228074220000 | AA11: =Y11/$Y$17 -> 0.0024044872
A12: صندوق س آسمان خاورمیانه-مختلط | D12: 0 | G12: 0 | I12: 0 | K12: 15000000 | M12: 350768418820 | O12: 0 | Q12: 0 | S12: 15000000 | U12: 23927 | W12: 350768418820 | Y12: 3.5845188e+11 | AA12: =Y12/$Y$17 -> 0.0037790021
A13: صندوق س.پشتوانه طلا آتش فیروزه | D13: 0 | G13: 0 | I13: 0 | K13: 5123 | M13: 232350383 | O13: -5123 | Q13: 237728966 | S13: 0 | U13: 0 | W13: 0 | Y13: 0 | AA13: =Y13/$Y$17 -> 0
A14: جمع | D14: 20000000 | G14: 251292387625 | I14: 407231209000 | K14: 21271063 | M14: 416585934440 | O14: -4005123 | Q14: 42135806341 | S14: 37265940 | W14: 627556171682 | Y14: 8.5963101e+11 | AA14: 0.91
Y17: 94853581330397

Sheet اوراق
A1: صندوق سرمایه گذاری در اوراق بهادار بادرآمد ثابت ثمر گندم
A2: صورت وضعیت پرتفوی
A3: برای ماه منتهی به 1405/07/30
A5: -3-1 | B5: سرمایه‌گذاری در اوراق بهادار با درآمد ثابت یا علی‌الحساب
A6: اطلاعات اوراق با درآمد ثابت | P6: 1405/06/31 | V6: تغییرات طی دوره | AD6: 1405/07/30
V7: خرید طی دوره | Z7: فروش طی دوره
A8: نام اوراق | D8: دارای مجوز از سازمان | F8: پذیرفته شده در بورس یا فرابورس | H8: تاریخ انتشار اوراق | J8: تاریخ سررسید | L8: نرخ سود اسمی | N8: نرخ سود موثر | P8: تعداد | R8: بهای تمام شده | T8: خالص ارزش فروش | V8: تعداد | X8: بهای تمام شده | Z8: تعداد | AB8: مبلغ فروش | AD8: تعداد | AF8: قیمت بازار هر سهم | AH8: بهای تمام شده | AJ8: خالص ارزش فروش | AL8: درصد به کل دارایی ها
A9: صکوک اجاره فارس88-بدون ضامن | D9: بله | F9: بله | H9: 1404/08/24 | J9: 1408/08/24 | L9: 23 | N9: 23 | P9: 1500000 | R9: 1500815625000 | T9: 1499184375000 | V9: 0 | X9: 0 | Z9: 0 | AB9: 0 | AD9: 1500000 | AF9: 1000000 | AH9: 1500815625000 | AJ9: 1499184375000 | AL9: =AJ9/$AJ$61 -> 0.015805248
A10: گام بانک تجارت0509 | D10: بله | F10: بله | H10: 1404/11/04 | J10: 1405/09/30 | L10: 0 | N10: 0 | P10: 5000000 | R10: 3987667115598 | T10: 4336190913437 | V10: 0 | X10: 0 | Z10: 0 | AB10: 0 | AD10: 5000000 | AF10: 820000 | AH10: 3987667115598 | AJ10: 4097770625000 | AL10: =AJ10/$AJ$61 -> 0.043201011
A11: گواهی اعتبار مولد رفاه14051030 | D11: بله | F11: بله | H11: 1404/11/29 | J11: 1405/10/30 | L11: 0 | N11: 0 | P11: 1995000 | R11: 1702602501750 | T11: 1768403407509 | V11: 0 | X11: 0 | Z11: 0 | AB11: 0 | AD11: 1995000 | AF11: 886900 | AH11: 1702602501750 | AJ11: 1768403407509 | AL11: =AJ11/$AJ$61 -> 0.018643507
A12: گواهی اعتبار مولد رفاه14051130 | D12: بله | F12: بله | H12: 1405/03/07 | J12: 1405/11/30 | L12: 0 | N12: 0 | P12: 1162500 | R12: 1002558638786 | T12: 1001878682085 | V12: 0 | X12: 0 | Z12: 0 | AB12: 0 | AD12: 1162500 | AF12: 890890 | AH12: 1002558638786 | AJ12: 1035096485078 | AL12: =AJ12/$AJ$61 -> 0.010912571
A13: گواهی اعتبار مولد رفاه14051228 | D13: بله | F13: بله | H13: 1405/03/07 | J13: 1405/12/28 | L13: 0 | N13: 0 | P13: 600000 | R13: 504052047375 | T13: 503665982625 | V13: 0 | X13: 0 | Z13: 0 | AB13: 0 | AD13: 600000 | AF13: 839900 | AH13: 504052047375 | AJ13: 503665982625 | AL13: =AJ13/$AJ$61 -> 0.0053099311
A14: گواهی اعتبار مولد رفاه14060231 | D14: بله | F14: بله | H14: 1405/03/13 | J14: 1406/02/31 | L14: 0 | N14: 0 | P14: 225000 | R14: 168859575583 | T14: 169018046437 | V14: 0 | X14: 0 | Z14: 0 | AB14: 0 | AD14: 225000 | AF14: 751600 | AH14: 168859575583 | AJ14: 169018046437 | AL14: =AJ14/$AJ$61 -> 0.0017818837
A15: گواهی اعتبار مولد شهر14060331 | D15: بله | F15: بله | H15: 1405/03/26 | J15: 1406/03/31 | L15: 0 | N15: 0 | P15: 2500000 | R15: 1821654330530 | T15: 1866359614843 | V15: 0 | X15: 0 | Z15: 0 | AB15: 0 | AD15: 2500000 | AF15: 746950 | AH15: 1821654330530 | AJ15: 1866359614843 | AL15: =AJ15/$AJ$61 -> 0.019676217
A16: گواهی اعتبارمولد ت.تعاون051130 | D16: بله | F16: بله | H16: 1404/11/20 | J16: 1405/11/30 | L16: 0 | N16: 0 | P16: 998065 | R16: 774192358318 | T16: 832931122300 | V16: 0 | X16: 0 | Z16: 0 | AB16: 0 | AD16: 998065 | AF16: 835000 | AH16: 774192358318 | AJ16: 832931122300 | AL16: =AJ16/$AJ$61 -> 0.0087812301
A17: گواهی اعتبارمولد ت.تعاون060231 | D17: بله | F17: بله | H17: 1405/03/05 | J17: 1406/02/31 | L17: 0 | N17: 0 | P17: 250000 | R17: 197821040468 | T17: 197657465281 | V17: 0 | X17: 0 | Z17: 0 | AB17: 0 | AD17: 250000 | AF17: 791060 | AH17: 197821040468 | AJ17: 197657465281 | AL17: =AJ17/$AJ$61 -> 0.0020838166
A18: گواهی اعتبارمولد رفاه14050930 | D18: بله | F18: بله | H18: 1404/10/01 | J18: 1405/09/30 | L18: 0 | N18: 0 | P18: 5750000 | R18: 4798962640191 | T18: 5242297949687 | V18: 0 | X18: 0 | Z18: 0 | AB18: 0 | AD18: 5750000 | AF18: 880000 | AH18: 4798962640191 | AJ18: 5057248625000 | AL18: =AJ18/$AJ$61 -> 0.05331637
A19: گواهی اعتبارمولد رفاه14060131 | D19: بله | F19: بله | H19: 1405/04/11 | J19: 1406/01/31 | L19: 0 | N19: 0 | P19: 437500 | R19: 356666506182 | T19: 356412345351 | V19: 0 | X19: 0 | Z19: 0 | AB19: 0 | AD19: 437500 | AF19: 839550 | AH19: 356666506182 | AJ19: 367103403925 | AL19: =AJ19/$AJ$61 -> 0.0038702113
A20: گواهی اعتبارمولد شهر14051030 | D20: بله | F20: بله | H20: 1404/12/07 | J20: 1405/10/30 | L20: 0 | N20: 0 | P20: 1000000 | R20: 787310000000 | T20: 871525850000 | V20: 0 | X20: 0 | Z20: 0 | AB20: 0 | AD20: 1000000 | AF20: 904260 | AH20: 787310000000 | AJ20: 903768308625 | AL20: =AJ20/$AJ$61 -> 0.0095280357
... A44: گلسان خرسند یزد | D44: خیر | F44: خیر | H44: 1405/02/14 | J44: 1406/02/13 | L44: 40 | N44: 40 | P44: 25000000 | R44: 25000000000 | T44: 25000000000 | V44: 0 | X44: 0 | Z44: 0 | AB44: 0 | AD44: 25000000 | AF44: 1000 | AH44: 25000000000 | AJ44: 25000000000 | AL44: =AJ44/$AJ$61 -> 0.00026356411
A45: جمع | P45: 209194869 | R45: 46938296144131 | T45: 48200026282392 | V45: 22840422 | X45: 18325025330996 | Z45: 13010000 | AB45: 11904010255010 | AD45: 219025291 | AH45: 53421453091917 | AJ45: 54211579508468 | AL45: =SUM(AL9:AL44) -> 0.57152907
AJ48: 49047128455370
AJ49: =AJ45-AJ48 -> 5164451053098
AJ61: 94853581330397
AJ64: 49047128455370
AJ66: =AJ45-AJ64 -> 5164451053098

Sheet تعدیل قیمت
A1: صندوق سرمایه گذاری در اوراق بهادار بادرآمد ثابت ثمر گندم
A2: صورت وضعیت پرتفوی
A3: برای ماه منتهی به 1405/07/30
A4: اوراق بهاداری که ارزش آنها در تاریخ گزارش تعدیل شده
A5: (بر اساس دستورالعمل نحوه تعیین قیمت خرید و فروش اوراق بهادار در صندوق های سرمایه گذاری)
C7: 1405/07/30
A8: نام اوراق بهادار | C8: تعداد | E8: قیمت پایانی | G8: قیمت تعدیل شده | I8: درصد تعدیل | K8: خالص ارزش فروش تعدیل شده | M8: دلیل تعدیل
A9: گواهی اعتبارمولد رفاه14050930 | C9: 5750000 | E9: 943000 | G9: 880000 | I9: -6.68% | K9: 5057248625000
A10: گام بانک تجارت0509 | C10: 5000000 | E10: 893741 | G10: 820000 | I10: -8.25% | K10: 4097770625000 | M10: سایر
A11: جمع | C11: 10750000 | K11: 9155019250000

Sheet سپرده
A1: صندوق سرمایه گذاری در اوراق بهادار بادرآمد ثابت ثمر گندم
A2: صورت وضعیت پرتفوی
A3: برای ماه منتهی به 1405/07/30
A5: -4-1 | B5: سرمایه‌گذاری در سپرده‌ بانکی
D6: 1405/06/31 | F6: تغییرات طی دوره | J6: 1405/07/30
A8: سپرده های بانکی | D8: مبلغ | F8: افزایش | H8: کاهش | J8: مبلغ | L8: درصد به کل دارایی ها
A9: سپرده کوتاه مدت بانک گردشگری قائم مقام | D9: 1089684 | F9: 4611 | H9: 0 | J9: 1094295 | L9: =J9/$J$41 -> 1.1536676e-08
A10: سپرده بلند مدت بانک صادرات شیراز ونک | D10: 10000000000 | F10: 0 | H10: 0 | J10: 10000000000 | L10: =J10/$J$41 -> 0.00010542565
A11: سپرده کوتاه مدت بانک صادرات شیراز ونک | D11: 320700372 | F11: 267760058 | H11: 0 | J11: 588460430 | L11: =J11/$J$41 -> 6.203882e-06
A12: سپرده کوتاه مدت بانک تجارت تخصصی بورس طاقانی | D12: 1339843 | F12: 5690 | H12: 630000 | J12: 715533 | L12: =J12/$J$41 -> 7.5435528e-09
A13: سپرده کوتاه مدت بانک خاورمیانه مهستان | D13: 407752680 | F13: 8804014560000 | H13: 8756717516765 | J13: 47704795915 | L13: =J13/$J$41 -> 0.00050293089
A14: سپرده کوتاه مدت بانک شهر بازار مبل یافت آباد | D14: 392203442 | F14: 5206175346635 | H14: 5189056578354 | J14: 17510971723 | L14: =J14/$J$41 -> 0.00018461055
A15: سپرده بلند مدت بانک شهر بازار مبل یافت آباد | D15: 4000000000000 | F15: 0 | H15: 3500000000000 | J15: 500000000000 | L15: =J15/$J$41 -> 0.0052712823
A16: سپرده کوتاه مدت بانک پاسارگاد جهان کودک | D16: 1394514 | F16: 5896 | H16: 1008000 | J16: 392410 | L16: =J16/$J$41 -> 4.1370077e-09
A17: سپرده بلند مدت بانک شهر بازار مبل یافت آباد | D17: 5163000000000 | F17: 0 | H17: 1163000000000 | J17: 4000000000000 | L17: =J17/$J$41 -> 0.042170258
A18: سپرده کوتاه مدت بانک گردشگری قائم مقام فراهانی | D18: 90511205708 | F18: 35762521397347 | H18: 35107910002321 | J18: 745122600734 | L18: =J18/$J$41 -> 0.0078555031
A19: سپرده بلند مدت بانک صادرات فلکه اول صادقیه | D19: 3000000000000 | F19: 0 | H19: 0 | J19: 3000000000000 | L19: =J19/$J$41 -> 0.031627694
A20: سپرده بلند مدت بانک صادرات کوی گلستان | D20: 7000000000000 | F20: 0 | H20: 0 | J20: 7000000000000 | L20: =J20/$J$41 -> 0.073797952
... A37: سپرده بلند مدت بانک گردشگری قائم مقام فراهانی | D37: 0 | F37: 2500000000000 | H37: 0 | J37: 2500000000000 | L37: =J37/$J$41 -> 0.026356411
A38: جمع | D38: 40053565873860 | F38: 78320227863393 | H38: 81432191789940 | J38: 36941601947313 | L38: =SUM(L9:L37) -> 0.38945922
J41: 94853581330397

Sheet درآمد
A1: صندوق سرمایه گذاری در اوراق بهادار بادرآمد ثابت ثمر گندم
A2: صورت وضعیت درآمدها
A3: برای ماه منتهی به 1405/07/30
A5: -2 | B5: درآمد حاصل از سرمایه گذاری ها
A7: شرح | D7: یادداشت | F7: مبلغ | H7: درصد از کل درآمدها | J7: درصد از کل دارایی ها
A8: درآمد حاصل از سرمایه گذاری در سهام و حق تقدم سهام | D8: 1-2 | F8: ='درآمد سرمایه گذاری در سهام'!U28 -> 115038607072 | H8: =F8/$F$13 -> 0.079522558 | J8: =F8/$J$17 -> 0.0012128019 | M8: =F8/F13*100 -> 7.9522558
A9: درآمد حاصل از سرمایه گذاری در واحدهای صندوق های سرمایه گذاری | D9: 2-2 | F9: ='درآمد سرمایه گذاری در صندوق'!U14 -> 77949676787 | H9: =F9/$F$13 -> 0.053884151 | J9: =F9/$J$17 -> 0.0008217895 | M9: =F9/F13*100 -> 5.3884151
A10: درآمد حاصل از سرمایه گذاری در اوراق بهادار با درآمد ثابت | D10: 3-2 | F10: ='درآمد سرمایه گذاری در اوراق به'!R38 -> 202268532144 | H10: =F10/$F$13 -> 0.13982185 | J10: =F10/$J$17 -> 0.002132429 | M10: =F10/F13*100 -> 13.982185
A11: درآمد حاصل از سرمایه گذاری در سپرده بانکی و گواهی سپرده | D11: 4-2 | F11: ='درآمد سپرده بانکی'!H36 -> 995229354999 | H11: =F11/$F$13 -> 0.68797064 | J11: =F11/$J$17 -> 0.01049227 | M11: =F11/F13*100 -> 68.797064
A12: سایر درآمدها | D12: 5-2 | F12: ='سایر درآمدها'!F12 -> 56129850218 | H12: =F12/$F$13 -> 0.038800794 | J12: =F12/$J$17 -> 0.00059175257 | M12: =F12/F13*100 -> 3.8800794
A13: جمع | F13: =SUM(F8:F12) -> 1446616021220 | H13: =SUM(H8:H12) -> 1 | J13: =SUM(J8:J12) -> 0.015251043 | M13: =F13/F18*100 -> 55915.473
F16: 1449203169178
J17: 94853581330397
D18: 1406144672 | F18: =F16-F13 -> 2587147958
D19: 1181003294 | F19: =F18-D18 -> 1181003286
F20: =F19-D19 -> -8
F28: درصد درآمدها

Sheet اوراق مشتقه
A1: صندوق سرمایه گذاری در اوراق بهادار بادرآمد ثابت ثمر گندم
A2: صورت وضعیت پرتفوی
A3: برای ماه منتهی به 1405/07/30
A5: اطلاعات آماری مرتبط با اوراق اختیار فروش تبعی خریداری شده توسط صندوق سرمایه گذاری:
I6: 1405/06/31 | AC6: 1405/07/30
A8: نام سهام | I8: تعداد اوراق تبعی | M8: قیمت اعمال | Q8: تاریخ اعمال | W8: نرخ سود موثر | AC8: تعداد اوراق تبعی | AI8: قیمت اعمال | AM8: تاریخ اعمال | AQ8: نرخ سود موثر
A9: اختیارف ت بترانس-3300-06/02/05 | I9: 37500000 | M9: 3090 | Q9: 1406/02/05 | W9: 0.19442791 | AC9: 37500000 | AI9: 3090 | AM9: 1406/02/05 | AQ9: 0.19442791
A10: اطلاعات آماری مرتبط با موقعیت های اخذ شده در اوراق اختیار معامله توسط صندوق سرمایه گذاری:
C11: 1405/06/31 | Y11: 1405/07/30
A12: نام سهام | C12: نوع اختیار | E12: نوع موقعیت | G12: استراتژی ماخوذه | K12: تعداد اوراق | O12: قیمت اعمال | S12: تاریخ اعمال | Y12: نوع اختیار | AE12: نوع موقعیت | AK12: استراتژی ماخوذه | AO12: تعداد اوراق | AS12: قیمت اعمال | AV12: تاریخ اعمال
A13: اطلاعات آماری مرتبط با قراردادهای آتی توسط صندوق سرمایه گذاری:
C14: 1405/06/31 | O14: 1405/07/30
A15: نام سهام | C15: نوع موقعیت | E15: تعداد اوراق | G15: قیمت اعمال | K15: تاریخ اعمال | O15: نوع موقعیت | U15: تعداد اوراق | AA15: قیمت اعمال | AG15: تاریخ اعمال

Sheet درآمد سرمایه گذاری در سهام
A1: صندوق سرمایه گذاری در اوراق بهادار بادرآمد ثابت ثمر گندم
A2: صورت وضعیت درآمدها
A3: برای ماه منتهی به 1405/07/30
A5: -1-2 | B5: درآمد حاصل از سرمایه­گذاری در سهام و حق تقدم سهام
D6: طی ماه | N6: از ابتدای سال مالی
J7: جمع | U7: جمع
A8: سهام | D8: درآمد سود سهام | F8: درآمد تغییر ارزش | H8: درآمد فروش | J8: مبلغ | L8: درصد از کل درآمدها | N8: درآمد سود سهام | P8: درآمد تغییر ارزش | S8: درآمد فروش | U8: مبلغ | W8: درصد از کل درآمدها
A9: بورس اوراق بهادار تهران | D9: 0 | F9: 0 | H9: 2518037792 | J9: 2518037792 | L9: 0.18 | N9: 0 | P9: 0 | S9: 2518037792 | U9: 2518037792 | W9: 0.18
A10: نفت پاسارگاد | D10: 0 | F10: 0 | H10: 7156168282 | J10: 7156168282 | L10: 0.51 | N10: 0 | P10: 0 | S10: 7156168282 | U10: 7156168282 | W10: 0.51
A11: پاریز شرق | D11: 0 | F11: 0 | H11: -474589271 | J11: -474589271 | L11: -0.03 | N11: 0 | P11: 0 | S11: -474589271 | U11: -474589271 | W11: -0.03
A12: گروه پتروشیمی تابان فردا | D12: 0 | F12: 0 | H12: 17310275 | J12: 17310275 | L12: 0 | N12: 0 | P12: 0 | S12: 17310275 | U12: 17310275 | W12: 0
A13: سرمایه‌گذاری‌ ملی‌ایران‌ | D13: 0 | F13: 1607923545 | H13: 2737490527 | J13: 4345414072 | L13: 0.31 | N13: 0 | P13: 1607923545 | S13: 2737490527 | U13: 4345414072 | W13: 0.31
A14: ایران‌ ترانسفو | D14: 0 | F14: 29768099999 | H14: 0 | J14: 29768099999 | L14: 2.13 | N14: 0 | P14: 29768099999 | S14: 0 | U14: 29768099999 | W14: 2.13
A15: جام‌دارو | D15: 0 | F15: 1810425729 | H15: 0 | J15: 1810425729 | L15: 0.13 | N15: 0 | P15: 1810425729 | S15: 0 | U15: 1810425729 | W15: 0.13
A16: گروه دارویی سبحان | D16: 0 | F16: 29944845968 | H16: 0 | J16: 29944845968 | L16: 2.14 | N16: 0 | P16: 29944845968 | S16: 0 | U16: 29944845968 | W16: 2.14
A17: شرکت بهمن لیزینگ | D17: 0 | F17: 9571700949 | H17: 0 | J17: 9571700949 | L17: 0.68 | N17: 0 | P17: 9571700949 | S17: 0 | U17: 9571700949 | W17: 0.68
A18: سرمایه گذاری مس سرچشمه | D18: 0 | F18: -12590167913 | H18: 0 | J18: -12590167913 | L18: -0.9 | N18: 0 | P18: -12590167913 | S18: 0 | U18: -12590167913 | W18: -0.9
A19: گروه صنعتی و معدنی امیر | D19: 0 | F19: 10351646921 | H19: 0 | J19: 10351646921 | L19: 0.74 | N19: 0 | P19: 10351646921 | S19: 0 | U19: 10351646921 | W19: 0.74
A20: سنگ آهن گهرزمین | D20: 0 | F20: 5542673492 | H20: 0 | J20: 5542673492 | L20: 0.4 | N20: 0 | P20: 5542673492 | S20: 0 | U20: 5542673492 | W20: 0.4
... A27: تولیدی برنا باطری | D27: 0 | F27: 240419575 | H27: 0 | J27: 240419575 | L27: 0.02 | N27: 0 | P27: 240419575 | S27: 0 | U27: 240419575 | W27: 0.02
A28: جمع | D28: 0 | F28: 103084189467 | H28: 11954417605 | J28: 115038607072 | L28: 8.24 | N28: 0 | Q28: =SUM(P9:Q27) -> 103084189467 | S28: =SUM(S9:S27) -> 11954417605 | U28: =SUM(U9:U27) -> 115038607072 | W28: 8.24

Sheet درآمد سرمایه گذاری در صندوق
A1: صندوق سرمایه گذاری در اوراق بهادار بادرآمد ثابت ثمر گندم
A2: صورت وضعیت درآمدها
A3: برای ماه منتهی به 1405/07/30
A5: -2-2 | B5: درآمد حاصل از سرمایه­گذاری در واحدهای صندوق
D6: طی ماه | N6: از ابتدای سال مالی
J7: جمع | U7: جمع
A8: صندوق | D8: درآمد سود صندوق | F8: درآمد تغییر ارزش | H8: درآمد فروش | J8: مبلغ | L8: درصد از کل درآمدها | N8: درآمد سود صندوق | P8: درآمد تغییر ارزش | S8: درآمد فروش | U8: مبلغ | W8: درصد از کل درآمدها
A9: صندوق س.پشتوانه طلا آتش فیروزه | D9: 0 | F9: 0 | H9: 5378583 | J9: 5378583 | L9: 0 | N9: 0 | P9: 0 | S9: 5378583 | U9: 5378583 | W9: 0
A10: صندوق س راه نو ره سود-سهام | D10: 0 | F10: -1069392788 | H10: 1990077375 | J10: 920684587 | L10: 0.07 | N10: 0 | P10: -1069392788 | S10: 1990077375 | U10: 920684587 | W10: 0.07
A11: صندوق س.جوانه کوچک گندم-سهام | D11: 0 | F11: 41544228000 | H11: 0 | J11: 41544228000 | L11: 2.97 | N11: 0 | P11: 41544228000 | S11: 0 | U11: 41544228000 | W11: 2.97
A12: صندوق س آسمان خاورمیانه-مختلط | D12: 0 | F12: 7683463617 | H12: 0 | J12: 7683463617 | L12: 0.55 | N12: 0 | P12: 7683463617 | S12: 0 | U12: 7683463617 | W12: 0.55
A13: صندوق س. بخشی صنایع گندم1-ب | D13: 0 | F13: 27795922000 | H13: 0 | J13: 27795922000 | L13: 1.99 | N13: 0 | P13: 27795922000 | S13: 0 | U13: 27795922000 | W13: 1.99
A14: جمع | D14: 0 | F14: 75954220829 | H14: 1995455958 | J14: 77949676787 | L14: 5.58 | N14: 0 | Q14: 75954220829 | S14: 1995455958 | U14: 77949676787 | W14: 5.58

Sheet درآمد سرمایه گذاری در اوراق به
A1: صندوق سرمایه گذاری در اوراق بهادار بادرآمد ثابت ثمر گندم
A2: صورت وضعیت درآمدها
A3: برای ماه منتهی به 1405/07/30
A5: -3-2 | B5: درآمد حاصل از سرمایه­گذاری در اوراق بهادار با درآمد ثابت:
D6: طی ماه | L6: از ابتدای سال مالی
A8: عنوان | D8: درآمد سود اوراق | F8: درآمد تغییر ارزش | H8: درآمد فروش | J8: جمع | L8: درآمد سود اوراق | N8: درآمد تغییر ارزش | P8: درآمد فروش | R8: جمع
A9: مرابحه عام دولت209-ش.خ050821 | D9: 157295091849 | F9: 28066685309 | H9: 20789944074 | J9: 206151721232 | L9: 157295091849 | N9: 28066685309 | P9: 20789944074 | R9: 206151721232
A10: مرابحه دولت عام220-ش.خ070303 | D10: 30059775773 | F10: -121271859477 | H10: -130983526 | J10: -91343067230 | L10: 30059775773 | N10: -121271859477 | P10: -130983526 | R10: -91343067230
A11: مرابحه عام دولت261-ش.خ070709 | D11: 79294184309 | F11: 17830758003 | H11: -93878957179 | J11: 3245985133 | L11: 79294184309 | N11: 17830758003 | P11: -93878957179 | R11: 3245985133
A12: مرابحه عام دولت145-ش.خ050707 | D12: 8374109632 | F12: 0 | H12: 7823835125 | J12: 16197944757 | L12: 8374109632 | N12: 0 | P12: 7823835125 | R12: 16197944757
A13: شهرداری شیراز | D13: 94520529030 | F13: 0 | H13: 0 | J13: 94520529030 | L13: 94520529030 | N13: 0 | P13: 0 | R13: 94520529030
A14: برآیند نگین بجنورد | D14: 821917800 | F14: 0 | H14: 0 | J14: 821917800 | L14: 821917800 | N14: 0 | P14: 0 | R14: 821917800
A15: مرابحه عام دولت293-ش.خ060530 | D15: 55744791600 | F15: -36070376061 | H15: 0 | J15: 19674415539 | L15: 55744791600 | N15: -36070376061 | P15: 0 | R15: 19674415539
A16: یکتافنتک/yektafan | D16: 1643835600 | F16: 0 | H16: 0 | J16: 1643835600 | L16: 1643835600 | N16: 0 | P16: 0 | R16: 1643835600
A17: شرکت یکتا پویش فرآور | D17: 493150680 | F17: 0 | H17: 0 | J17: 493150680 | L17: 493150680 | N17: 0 | P17: 0 | R17: 493150680
A18: یکتاسونگ/yektason | D18: 821917800 | F18: 0 | H18: 0 | J18: 821917800 | L18: 821917800 | N18: 0 | P18: 0 | R18: 821917800
A19: یکتافراو/yektafar | D19: 493150680 | F19: 0 | H19: 0 | J19: 493150680 | L19: 493150680 | N19: 0 | P19: 0 | R19: 493150680
A20: گلسان خرسند یزد | D20: 821917800 | F20: 0 | H20: 0 | J20: 821917800 | L20: 821917800 | N20: 0 | P20: 0 | R20: 821917800
... A37: گواهی اعتبار مولد شهر14051228 | D37: 0 | F37: -1285025624 | H37: 0 | J37: -1285025624 | L37: 0 | N37: -1285025624 | P37: 0 | R37: -1285025624
A38: جمع | D38: 611730382047 | F38: -344065688397 | H38: -65396161506 | J38: 202268532144 | L38: 611730382047 | N38: =SUM(N9:N37) -> -344065688397 | P38: -65396161506 | R38: 202268532144
R41: =N38+P38+L38 -> 202268532144

Sheet مبالغ تخصیصی اوراق
A1: صندوق سرمایه گذاری در اوراق بهادار بادرآمد ثابت ثمر گندم
A2: صورت وضعیت درآمدها
A3: برای ماه منتهی به 1405/07/30
A5: -1-3-2 | B5: مبالغ تخصیص یافته بابت خرید و نگهداری اوراق بهادار با درآمد ثابت (نرخ سود ترجیحی)
A7: طرف معامله | D7: نوع وابستگی | F7: نام ورقه بهادار | H7: تعداد اوراق | J7: بهای تمام شده اوراق | M7: مبلغ شناسایی شده بابت قرارداد خرید و نگهداری اوراق بهادار | O7: نرخ اسمی | Q7: میانگین نرخ بازده تا سررسید قراردادهای منعقده
A8: صندوق بازارگردانی امید فارابی | D8: ندارد | F8: صفارس 88 | H8: 1500000 | J8: 1500815625000 | M8: 12362543918 | O8: 0.23 | Q8: 0.397

Sheet درآمد سپرده بانکی
A1: صندوق سرمایه گذاری در اوراق بهادار بادرآمد ثابت ثمر گندم
A2: صورت وضعیت درآمدها
A3: برای ماه منتهی به 1405/07/30
A5: -4-2 | B5: درآمد حاصل از سرمایه­گذاری در سپرده بانکی و گواهی سپرده
D6: طی ماه | H6: از ابتدای سال مالی
A7: نام سپرده بانکی | D7: سود سپرده بانکی و گواهی سپرده | F7: درصد سود به میانگین سپرده | H7: سود سپرده بانکی و گواهی سپرده | J7: درصد سود به میانگین سپرده
A8: سپرده کوتاه مدت بانک گردشگری قائم مقام | D8: 4611 | H8: 4611
A9: سپرده بلند مدت بانک صادرات شیراز ونک | D9: 310684926 | H9: 310684926
A10: سپرده کوتاه مدت بانک صادرات شیراز ونک | D10: 225812 | H10: 225812
A11: سپرده کوتاه مدت بانک تجارت تخصصی بورس طاقانی | D11: 5690 | H11: 5690
A12: سپرده کوتاه مدت بانک شهر بازار مبل یافت آباد | D12: 4178 | H12: 4178
A13: سپرده بلند مدت بانک شهر بازار مبل یافت آباد | D13: 83476712314 | H13: 83476712314
A14: سپرده کوتاه مدت بانک پاسارگاد جهان کودک | D14: 5896 | H14: 5896
A15: سپرده بلند مدت بانک شهر بازار مبل یافت آباد | D15: 114749534238 | H15: 114749534238
A16: سپرده بلند مدت بانک صادرات فلکه اول صادقیه | D16: 78904109580 | H16: 78904109580
A17: سپرده بلند مدت بانک صادرات کوی گلستان | D17: 184109589030 | H17: 184109589030
A18: سپرده بلند مدت بانک گردشگری قائم مقام فراهانی | D18: 20 | H18: 20
A19: سپرده کوتاه مدت بانک صادرات کوی گلستان | D19: 423979 | H19: 423979
... A36: جمع | D36: 995229354999 | H36: 995229354999

Sheet سایر درآمدها
A1: صندوق سرمایه گذاری در اوراق بهادار بادرآمد ثابت ثمر گندم
A2: صورت وضعیت درآمدها
A3: برای ماه منتهی به 1405/07/30
A5: -5-2 | B5: سایر درآمدها
D6: طی ماه | F6: 1405/07/30
A7: سایر درآمدها | D7: مبلغ | F7: مبلغ
A8: سایر درآمدها | D8: 701952953 | F8: 701952953
A9: معین برای سایر درآمدهای تنزیل سود بانک | D9: 4278341287 | F9: 4278341287
A10: تعدیل کارمزد کارگزار | D10: 2050654868 | F10: 2050654868
A11: درآمد حاصل از پذیره نویسی | D11: 49098901110 | F11: 49098901110
A12: جمع | D12: =SUM(D8:D11) -> 56129850218 | F12: =SUM(F8:F11) -> 56129850218

Sheet درآمد سود سهام
A1: صندوق سرمایه گذاری در اوراق بهادار بادرآمد ثابت ثمر گندم
A2: صورت وضعیت درآمدها
A3: برای ماه منتهی به 1405/07/30
A5: درآمد سود سهام
A6: نام سهام | C6: اطلاعات مجمع | I6: طی ماه | O6: از ابتدای سال مالی
C7: تاریخ تشکیل مجمع | E7: تعداد سهام متعلقه در زمان مجمع | G7: سود متعلق به هر سهم | I7: جمع درآمد سود سهام | K7: هزینه تنزیل | M7: خالص درآمد سود سهام | O7: جمع درآمد سود سهام | Q7: هزینه تنزیل | S7: خالص درآمد سود سهام

Sheet درآمد سود صندوق
A1: صندوق سرمایه گذاری در اوراق بهادار بادرآمد ثابت ثمر گندم
A2: صورت وضعیت درآمدها
A3: برای ماه منتهی به 1405/07/30
A5: درآمد سود صندوق
I6: طی ماه | K6: از ابتدای سال مالی
A7: نام صندوق | C7: تاریخ تقسیم سود | E7: تعداد واحد صندوق در زمان تقسیم سود | G7: سود متعلق به هر واحد | I7: خالص درآمد سود صندوق | K7: خالص درآمد سود صندوق

Sheet سود اوراق بهادار
A1: صندوق سرمایه گذاری در اوراق بهادار بادرآمد ثابت ثمر گندم
A2: صورت وضعیت درآمدها
A3: برای ماه منتهی به 1405/07/30
A5: سود اوراق بهادار با درآمد ثابت
A6: شرح | J6: طی ماه | P6: از ابتدای سال مالی
C7: تاریخ دریافت سود | E7: تاریخ سررسید | H7: نرخ سود علی الحساب | J7: درآمد سود | L7: هزینه تنزیل | N7: خالص درآمد | P7: درآمد سود | R7: هزینه تنزیل | T7: خالص درآمد
A8: شهرداری شیراز | E8: 1409/02/29 | H8: 23 | J8: 94520529030 | L8: 0 | N8: 94520529030 | P8: 94520529030 | R8: 0 | T8: 94520529030
A9: برآیند نگین بجنورد | E9: 1406/05/25 | H9: 40 | J9: 821917800 | L9: 0 | N9: 821917800 | P9: 821917800 | R9: 0 | T9: 821917800
A10: مرابحه عام دولت293-ش.خ060530 | E10: 1406/05/30 | H10: 23 | J10: 55744791600 | L10: 0 | N10: 55744791600 | P10: 55744791600 | R10: 0 | T10: 55744791600
A11: یکتافنتک/yektafan | E11: 1406/04/02 | H11: 40 | J11: 1643835600 | L11: 0 | N11: 1643835600 | P11: 1643835600 | R11: 0 | T11: 1643835600
A12: شرکت یکتا پویش فرآور | E12: 1406/02/28 | H12: 40 | J12: 493150680 | L12: 0 | N12: 493150680 | P12: 493150680 | R12: 0 | T12: 493150680
A13: یکتاسونگ/yektason | E13: 1406/02/19 | H13: 40 | J13: 821917800 | L13: 0 | N13: 821917800 | P13: 821917800 | R13: 0 | T13: 821917800
A14: یکتافراو/yektafar | E14: 1406/02/20 | H14: 40 | J14: 493150680 | L14: 0 | N14: 493150680 | P14: 493150680 | R14: 0 | T14: 493150680
A15: گلسان خرسند یزد | E15: 1406/02/13 | H15: 40 | J15: 821917800 | L15: 0 | N15: 821917800 | P15: 821917800 | R15: 0 | T15: 821917800
A16: مرابحه عام دولت275-ش.خ080205 | E16: 1408/05/05 | H16: 23 | J16: 35242166052 | L16: 0 | N16: 35242166052 | P16: 35242166052 | R16: 0 | T16: 35242166052
A17: مرابحه عام دولت273-ش.خ071128 | E17: 1407/11/28 | H17: 23 | J17: 45990183563 | L17: 0 | N17: 45990183563 | P17: 45990183563 | R17: 0 | T17: 45990183563
A18: مرابحه عام دولت271-ش.خ070628 | E18: 1407/06/28 | H18: 23 | J18: 34801195556 | L18: 0 | N18: 34801195556 | P18: 34801195556 | R18: 0 | T18: 34801195556
A19: مرابحه عام دولت263-ش.خ070223 | E19: 1407/02/23 | H19: 23 | J19: 63183543 | L19: 0 | N19: 63183543 | P19: 63183543 | R19: 0 | T19: 63183543
... A25: مرابحه عام دولت145-ش.خ050707 | E25: 1405/07/07 | H25: 20.5 | J25: 8374109632 | L25: 0 | N25: 8374109632 | P25: 8374109632 | R25: 0 | T25: 8374109632
A26: جمع | J26: 611730382047 | L26: 0 | N26: 611730382047 | P26: 611730382047 | R26: 0 | T26: 611730382047

Sheet سود سپرده بانکی
A1: صندوق سرمایه گذاری در اوراق بهادار بادرآمد ثابت ثمر گندم
A2: صورت وضعیت درآمدها
A3: برای ماه منتهی به 1405/07/30
A5: سود سپرده بانکی
A6: شرح | C6: طی ماه | I6: از ابتدای سال مالی
C7: درآمد سود | E7: هزینه تنزیل | G7: خالص درآمد | I7: درآمد سود | K7: هزینه تنزیل | M7: خالص درآمد
A8: سپرده کوتاه مدت بانک گردشگری قائم مقام | C8: 4611 | E8: 0 | G8: 4611 | I8: 4611 | K8: 0 | M8: 4611
A9: سپرده بلند مدت بانک صادرات شیراز ونک | C9: 310684926 | E9: 1172938 | G9: 309511988 | I9: 310684926 | K9: 1172938 | M9: 309511988
A10: سپرده کوتاه مدت بانک صادرات شیراز ونک | C10: 225812 | E10: 0 | G10: 225812 | I10: 225812 | K10: 0 | M10: 225812
A11: سپرده کوتاه مدت بانک تجارت تخصصی بورس طاقانی | C11: 5690 | E11: 0 | G11: 5690 | I11: 5690 | K11: 0 | M11: 5690
A12: سپرده کوتاه مدت بانک شهر بازار مبل یافت آباد | C12: 4178 | E12: 0 | G12: 4178 | I12: 4178 | K12: 0 | M12: 4178
A13: سپرده بلند مدت بانک شهر بازار مبل یافت آباد | C13: 83476712314 | E13: 85211131 | G13: 83391501183 | I13: 83476712314 | K13: 85211131 | M13: 83391501183
A14: سپرده کوتاه مدت بانک پاسارگاد جهان کودک | C14: 5896 | E14: 0 | G14: 5896 | I14: 5896 | K14: 0 | M14: 5896
A15: سپرده بلند مدت بانک شهر بازار مبل یافت آباد | C15: 114749534238 | E15: 747354761 | G15: 114002179477 | I15: 114749534238 | K15: 747354761 | M15: 114002179477
A16: سپرده بلند مدت بانک صادرات فلکه اول صادقیه | C16: 78904109580 | E16: 0 | G16: 78904109580 | I16: 78904109580 | K16: 0 | M16: 78904109580
A17: سپرده بلند مدت بانک صادرات کوی گلستان | C17: 184109589030 | E17: 0 | G17: 184109589030 | I17: 184109589030 | K17: 0 | M17: 184109589030
A18: سپرده بلند مدت بانک گردشگری قائم مقام فراهانی | C18: 20 | E18: 0 | G18: 20 | I18: 20 | K18: 0 | M18: 20
A19: سپرده کوتاه مدت بانک صادرات کوی گلستان | C19: 423979 | E19: 0 | G19: 423979 | I19: 423979 | K19: 0 | M19: 423979
... A36: جمع | C36: 995229354999 | E36: 4437791441 | G36: 990791563558 | I36: 995229354999 | K36: 4437791441 | M36: 990791563558

Sheet درآمد ناشی از فروش
A1: صندوق سرمایه گذاری در اوراق بهادار بادرآمد ثابت ثمر گندم
A2: صورت وضعیت درآمدها
A3: برای ماه منتهی به 1405/07/30
A5: سود(زیان) حاصل از فروش اوراق بهادار
A6: شرح | C6: طی ماه | K6: از ابتدای سال مالی
C7: تعداد | E7: خالص بهای فروش | G7: ارزش دفتری | I7: سود و زیان ناشی از فروش | K7: تعداد | M7: خالص بهای فروش | O7: ارزش دفتری | Q7: سود و زیان ناشی از فروش
A8: بورس اوراق بهادار تهران | C8: 14170105 | E8: 78503734716 | G8: 75985696924 | I8: 2518037792 | K8: 14170105 | M8: 78503734716 | O8: 75985696924 | Q8: 2518037792
A9: نفت پاسارگاد | C9: 1442633 | E9: 82668053944 | G9: 75511885662 | I9: 7156168282 | K9: 1442633 | M9: 82668053944 | O9: 75511885662 | Q9: 7156168282
A10: پاریز شرق | C10: 225000 | E10: 7774895441 | G10: 8249484712 | I10: -474589271 | K10: 225000 | M10: 7774895441 | O10: 8249484712 | Q10: -474589271
A11: گروه پتروشیمی تابان فردا | C11: 3696 | E11: 85744517 | G11: 68434242 | I11: 17310275 | K11: 3696 | M11: 85744517 | O11: 68434242 | Q11: 17310275
A12: سرمایه‌گذاری‌ ملی‌ایران‌ | C12: 10546161 | E12: 65342401115 | G12: 62604910588 | I12: 2737490527 | K12: 10546161 | M12: 65342401115 | O12: 62604910588 | Q12: 2737490527
A13: جمع | C13: =SUM(C8:C12) -> 26387595 | E13: =SUM(E8:E12) -> 234374829733 | G13: =SUM(G8:G12) -> 222420412128 | I13: =SUM(I8:I12) -> 11954417605 | K13: =SUM(K8:K12) -> 26387595 | M13: =SUM(M8:M12) -> 234374829733 | O13: =SUM(O8:O12) -> 222420412128 | Q13: =SUM(Q8:R12) -> 11954417605
A18: سود (زیان) حاصل از فروش صندوق های سرمایه گذاری
A19: شرح | C19: طی ماه | K19: از ابتدای سال مالی
C20: تعداد | E20: خالص بهای فروش | G20: ارزش دفتری | I20: سود و زیان ناشی از فروش | K20: تعداد | M20: خالص بهای فروش | O20: ارزش دفتری | Q20: سود و زیان ناشی از فروش
A21: صندوق س.پشتوانه طلا آتش فیروزه | C21: 5123 | E21: 237728966 | G21: 232350383 | I21: 5378583 | K21: 5123 | M21: 237728966 | O21: 232350383 | Q21: 5378583
A22: صندوق س راه نو ره سود-سهام | C22: 4000000 | E22: 41898077375 | G22: 39908000000 | I22: 1990077375 | K22: 4000000 | M22: 41898077375 | O22: 39908000000 | Q22: 1990077375
A23: جمع | C23: =SUM(C21:C22) -> 4005123 | E23: =SUM(E21:E22) -> 42135806341 | G23: =SUM(G21:G22) -> 40140350383 | I23: =SUM(I21:I22) -> 1995455958 | K23: =SUM(K21:K22) -> 4005123 | M23: =SUM(M21:M22) -> 42135806341 | O23: =SUM(O21:O22) -> 40140350383 | Q23: =SUM(Q21:R22) -> 1995455958
A27: سود(زیان) حاصل از فروش اوراق بهادار با درآمد ثابت
A28: شرح | C28: طی ماه | K28: از ابتدای سال مالی
C29: تعداد | E29: خالص بهای فروش | G29: ارزش دفتری | I29: سود و زیان ناشی از فروش | K29: تعداد | M29: خالص بهای فروش | O29: ارزش دفتری | Q29: سود و زیان ناشی از فروش
A30: مرابحه عام دولت209-ش.خ050821 | C30: 6000000 | E30: 5933640000000 | G30: 5912850055926 | I30: 20789944074 | K30: 6000000 | M30: 5933640000000 | O30: 5912850055926 | Q30: 20789944074
A31: مرابحه دولت عام220-ش.خ070303 | C31: 5000 | E31: 4149842298 | G31: 4280825824 | I31: -130983526 | K31: 5000 | M31: 4149842298 | O31: 4280825824 | Q31: -130983526
A32: مرابحه عام دولت261-ش.خ070709 | C32: 5005000 | E32: 3966220412712 | G32: 4060099369891 | I32: -93878957179 | K32: 5005000 | M32: 3966220412712 | O32: 4060099369891 | Q32: -93878957179
A33: مرابحه عام دولت145-ش.خ050707 | C33: 2000000 | E33: 2000000000000 | G33: 1992176164875 | I33: 7823835125 | K33: 2000000 | M33: 2000000000000 | O33: 1992176164875 | Q33: 7823835125
A34: جمع | C34: =SUM(C30:C33) -> 13010000 | E34: =SUM(E30:E33) -> 11904010255010 | G34: =SUM(G30:G33) -> 11969406416516 | I34: =SUM(I30:I33) -> -65396161506 | K34: =SUM(K30:K33) -> 13010000 | M34: =SUM(M30:M33) -> 11904010255010 | O34: =SUM(O30:O33) -> 11969406416516 | Q34: =SUM(Q30:R33) -> -65396161506

Sheet درآمد اعمال اختیار
A1: صندوق سرمایه گذاری در اوراق بهادار بادرآمد ثابت ثمر گندم
A2: صورت وضعیت درآمدها
A3: برای ماه منتهی به 1405/07/30
A5: سود (زیان) ناشی از اعمال اختیار معامله سهام
E7: طی ماه | Y7: از ابتدای سال مالی
A8: نام سهم | C8: نام اختیار | E8: تاریخ اعمال | G8: تعداد | I8: قیمت اعمال | K8: ارزش اعمال | M8: ارزش دفتری اختیار | O8: بهای تمام شده سهم | Q8: کارمزد اعمال | S8: مالیات اعمال | U8: کارمزد فروش اختیار | W8: سود(زیان)اعمال | Y8: سود(زیان)اعمال

Sheet درآمد ناشی از تغییر قیمت اوراق
A1: صندوق سرمایه گذاری در اوراق بهادار بادرآمد ثابت ثمر گندم
A2: صورت وضعیت درآمدها
A3: برای ماه منتهی به 1405/07/30
A5: درآمد ناشی از تغییر قیمت اوراق بهادار
A6: شرح | C6: طی ماه | K6: از ابتدای سال مالی
C7: تعداد | E7: خالص ارزش فروش | G7: ارزش دفتری | I7: سود و زیان ناشی از تغییر قیمت | K7: تعداد | M7: خالص ارزش فروش | O7: ارزش دفتری | Q7: سود و زیان ناشی از تغییر قیمت
A8: ایران‌ ترانسفو | C8: 37500000 | E8: 161864043750 | G8: 132095943750 | I8: 29768099999 | K8: 37500000 | M8: 161864043750 | O8: 132095943750 | Q8: 29768099999
A9: سرمایه‌گذاری‌ ملی‌ایران‌ | C9: 7123474 | E9: 43894823280 | G9: 42286899735 | I9: 1607923545 | K9: 7123474 | M9: 43894823280 | O9: 42286899735 | Q9: 1607923545
A10: جام‌دارو | C10: 540622 | E10: 12584952590 | G10: 10774526861 | I10: 1810425729 | K10: 540622 | M10: 12584952590 | O10: 10774526861 | Q10: 1810425729
A11: گروه دارویی سبحان | C11: 15038339 | E11: 139372345253 | G11: 109427499285 | I11: 29944845968 | K11: 15038339 | M11: 139372345253 | O11: 109427499285 | Q11: 29944845968
A12: شرکت بهمن لیزینگ | C12: 27703767 | E12: 105560128823 | G12: 95988427874 | I12: 9571700949 | K12: 27703767 | M12: 105560128823 | O12: 95988427874 | Q12: 9571700949
A13: سرمایه گذاری مس سرچشمه | C13: 23023774 | E13: 197616171963 | G13: 210206339877 | I13: -12590167913 | K13: 23023774 | M13: 197616171963 | O13: 210206339877 | Q13: -12590167913
A14: گروه صنعتی و معدنی امیر | C14: 5662381 | E14: 80795623230 | G14: 70443976309 | I14: 10351646921 | K14: 5662381 | M14: 80795623230 | O14: 70443976309 | Q14: 10351646921
A15: سنگ آهن گهرزمین | C15: 1793911 | E15: 18654861832 | G15: 13112188340 | I15: 5542673492 | K15: 1793911 | M15: 18654861832 | O15: 13112188340 | Q15: 5542673492
A16: پتروشیمی خراسان | C16: 118331 | E16: 6629324375 | G16: 6616975932 | I16: 12348443 | K16: 118331 | M16: 6629324375 | O16: 6616975932 | Q16: 12348443
A17: کارخانجات رینگ اسپرت نورنی ریز | C17: 1325000 | E17: 22692718765 | G17: 23008260625 | I17: -315541860 | K17: 1325000 | M17: 22692718765 | O17: 23008260625 | Q17: -315541860
A18: زرین ذرت شاهرود | C18: 1450000 | E18: 13236881800 | G18: 13855562145 | I18: -618680345 | K18: 1450000 | M18: 13236881800 | O18: 13855562145 | Q18: -618680345
A19: مهندسی فکورصنعت تهران | C19: 8750000 | E19: 59821477625 | G19: 50357794900 | I19: 9463682725 | K19: 8750000 | M19: 59821477625 | O19: 50357794900 | Q19: 9463682725
... A22: تولیدی برنا باطری | C22: 965825 | E22: 10379029840 | G22: 10138610265 | I22: 240419575 | K22: 965825 | M22: 10379029840 | O22: 10138610265 | Q22: 240419575
A23: جمع | C23: =SUM(C8:C22) -> 136870424 | E23: =SUM(E8:E22) -> 927918553190 | G23: =SUM(G8:G22) -> 824834363723 | I23: =SUM(I8:I22) -> 103084189467 | K23: =SUM(K8:K22) -> 136870424 | M23: =SUM(M8:M22) -> 927918553190 | O23: =SUM(O8:O22) -> 824834363723 | Q23: =SUM(Q8:R22) -> 103084189467
A27: درآمد ناشی از تغییر ارزش صندوق های سرمایه گذاری
A28: شرح | C28: طی ماه | K28: از ابتدای سال مالی
C29: تعداد | E29: خالص ارزش فروش | G29: ارزش دفتری | I29: سود و زیان ناشی از تغییر قیمت | K29: تعداد | M29: خالص ارزش فروش | O29: ارزش دفتری | Q29: سود و زیان ناشی از تغییر قیمت
A30: صندوق س.جوانه کوچک گندم-سهام | C30: 6000000 | E30: 228074220000 | G30: 186529992000 | I30: 41544228000 | K30: 6000000 | M30: 228074220000 | O30: 186529992000 | Q30: 41544228000
A31: صندوق س آسمان خاورمیانه-مختلط | C31: 15000000 | E31: 358451882437 | G31: 350768418820 | I31: 7683463617 | K31: 15000000 | M31: 358451882437 | O31: 350768418820 | Q31: 7683463617
A32: صندوق س. بخشی صنایع گندم1-ب | C32: 10000000 | E32: 208589139000 | G32: 180793217000 | I32: 27795922000 | K32: 10000000 | M32: 208589139000 | O32: 180793217000 | Q32: 27795922000
A33: صندوق س راه نو ره سود-سهام | C33: 6265940 | E33: 64515772448 | G33: 65585165237 | I33: -1069392788 | K33: 6265940 | M33: 64515772448 | O33: 65585165237 | Q33: -1069392788
A34: جمع | C34: =SUM(C30:C33) -> 37265940 | E34: =SUM(E30:E33) -> 859631013885 | G34: =SUM(G30:G33) -> 783676793057 | I34: =SUM(I30:I33) -> 75954220829 | K34: =SUM(K30:K33) -> 37265940 | M34: =SUM(M30:M33) -> 859631013885 | O34: =SUM(O30:O33) -> 783676793057 | Q34: =SUM(Q30:R33) -> 75954220829
A37: درآمد ناشی از تغییر ارزش اوراق بهادار با درآمد ثابت
A38: شرح | C38: طی ماه | K38: از ابتدای سال مالی
C39: تعداد | E39: خالص ارزش فروش | G39: ارزش دفتری | I39: سود و زیان ناشی از تغییر قیمت | K39: تعداد | M39: خالص ارزش فروش | O39: ارزش دفتری | Q39: سود و زیان ناشی از تغییر قیمت
A40: مرابحه عام دولت209-ش.خ050821 | C40: 5070000 | E40: 5024424982565 | G40: 4996358297256 | I40: 28066685309 | K40: 5070000 | M40: 5024424982565 | O40: 4996358297256 | Q40: 28066685309
A41: صکوک اجاره فارس88-بدون ضامن | C41: 1500000 | E41: 1499184375000 | G41: 1499184375000 | I41: 0 | K41: 1500000 | M41: 1499184375000 | O41: 1499184375000 | Q41: 0
A42: مرابحه عام دولت263-ش.خ070223 | C42: 3370 | E42: 2822861234 | G42: 2740341128 | I42: 82520106 | K42: 3370 | M42: 2822861234 | O42: 2740341128 | Q42: 82520106
A43: مرابحه عام دولت264-ش.خ070523 | C43: 1295000 | E43: 1079067387892 | G43: 1061322591875 | I43: 17744796017 | K43: 1295000 | M43: 1079067387892 | O43: 1061322591875 | Q43: 17744796017
A44: مرابحه عام دولت273-ش.خ071128 | C44: 2569974 | E44: 2078338051220 | G44: 2052703656985 | I44: 25634394235 | K44: 2569974 | M44: 2078338051220 | O44: 2052703656985 | Q44: 25634394235
A45: مرابحه عام دولت271-ش.خ070628 | C45: 1944723 | E45: 1621036511084 | G45: 1597751397712 | I45: 23285113372 | K45: 1944723 | M45: 1621036511084 | O45: 1597751397712 | Q45: 23285113372
A46: گواهی اعتبارمولد گردشگری050930 | C46: 2375437 | E46: 2107576315544 | G46: 2107576315544 | I46: 0 | K46: 2375437 | M46: 2107576315544 | O46: 2107576315544 | Q46: 0
A47: گواهی اعتبارمولد ت.تعاون051130 | C47: 998065 | E47: 832931122300 | G47: 832931122300 | I47: 0 | K47: 998065 | M47: 832931122300 | O47: 832931122300 | Q47: 0
A48: گواهی اعتبارمولد رفاه14050930 | C48: 5750000 | E48: 5057248625000 | G48: 5242297949687 | I48: -185049324686 | K48: 5750000 | M48: 5057248625000 | O48: 5242297949687 | Q48: -185049324686
A49: گام بانک تجارت0509 | C49: 5000000 | E49: 4097770625000 | G49: 4336190913437 | I49: -238420288436 | K49: 5000000 | M49: 4097770625000 | O49: 4336190913437 | Q49: -238420288436
A50: گواهی اعتبارمولد شهر14051030 | C50: 1000000 | E50: 903768308625 | G50: 871525850000 | I50: 32242458625 | K50: 1000000 | M50: 903768308625 | O50: 871525850000 | Q50: 32242458625
A51: مرابحه عام دولت261-ش.خ070709 | C51: 839551 | E51: 698881804172 | G51: 681051046169 | I51: 17830758003 | K51: 839551 | M51: 698881804172 | O51: 681051046169 | Q51: 17830758003
... A67: گواهی اعتبار مولد شهر14051228 | C67: 2350000 | E67: 2034463158812 | G67: 2035748184437 | I67: -1285025624 | K67: 2350000 | M67: 2034463158812 | O67: 2035748184437 | Q67: -1285025624
A68: جمع | C68: =SUM(C40:C67) -> 59025292 | E68: =SUM(E40:E67) -> 49047128455359 | G68: =SUM(G40:G67) -> 49391194143763 | I68: =SUM(I40:I67) -> -344065688397 | K68: =SUM(K40:K67) -> 59025292 | M68: =SUM(M40:M67) -> 49047128455359 | O68: =SUM(O40:O67) -> 49391194143763 | Q68: =SUM(Q40:R67) -> -344065688397
